BEGIN:VCALENDAR
VERSION:2.0
PRODID:-//GENERAL&#039;S OUTPOST - ECPv6.15.20//NONSGML v1.0//EN
CALSCALE:GREGORIAN
METHOD:PUBLISH
X-ORIGINAL-URL:https://generalsoutpost.com
X-WR-CALDESC:Events for GENERAL&#039;S OUTPOST
REFRESH-INTERVAL;VALUE=DURATION:PT1H
X-Robots-Tag:noindex
X-PUBLISHED-TTL:PT1H
BEGIN:VTIMEZONE
TZID:UTC
BEGIN:STANDARD
TZOFFSETFROM:+0000
TZOFFSETTO:+0000
TZNAME:UTC
DTSTART:20240101T000000
END:STANDARD
END:VTIMEZONE
BEGIN:VEVENT
DTSTART;TZID=UTC:20251002T080000
DTEND;TZID=UTC:20260102T200000
DTSTAMP:20260423T125156
CREATED:20251117T114916Z
LAST-MODIFIED:20251117T114955Z
UID:499-1759392000-1767384000@generalsoutpost.com
SUMMARY:Ammo box Objective Marker Challenge
DESCRIPTION:Grab an ammo box (or two) from the box at the club alongside an MDF base to mount them on. Then create a scenic objective marker for the clubs stock and return it by the January Club night. \nWe have three prizes (a Box set under £35 of your choice from Gecko Gaming) for the best objective markers based on the MDF base size you select: \n\nSmall\nMedium\nLarge
URL:https://generalsoutpost.com/event/ammo-box-scenery-challenge/
LOCATION:URC Church Hall\, Denewell Avenue \, NE9 5HD\, URC CHURCH HALL\, Denewell Avenue\, Gateshead\, Tyne and Wear\, NE9 5HD\, United Kingdom
END:VEVENT
BEGIN:VEVENT
DTSTART;TZID=UTC:20251106T180000
DTEND;TZID=UTC:20260205T210000
DTSTAMP:20260423T125156
CREATED:20260202T204850Z
LAST-MODIFIED:20260202T204850Z
UID:566-1762452000-1770325200@generalsoutpost.com
SUMMARY:Objective marker competition
DESCRIPTION:All entries for our objective marker competition are due in on the February club night. \nThere are three categories: Small\, Medium &  Large. \nMake sure your entry is in by 21:00 \nClub members will vote on the best entry from each category. \nThe three lucky winners will each receive £15 credit from Gecko Gaming. \n 
URL:https://generalsoutpost.com/event/objective-marker-competition/
LOCATION:URC Church Hall\, Denewell Avenue \, NE9 5HD\, URC CHURCH HALL\, Denewell Avenue\, Gateshead\, Tyne and Wear\, NE9 5HD\, United Kingdom
END:VEVENT
BEGIN:VEVENT
DTSTART;TZID=UTC:20260101T180000
DTEND;TZID=UTC:20260101T220000
DTSTAMP:20260423T125156
CREATED:20251126T103810Z
LAST-MODIFIED:20251126T103851Z
UID:504-1767290400-1767304800@generalsoutpost.com
SUMMARY:January Club Night
DESCRIPTION:January Club Night\n\n\n\n\n1st January  18:00 – 22:00\n\n\n\nJoin us for our monthly Club Night 18:00-22:00 \n\nFully stocked terrain cupboard\nBuy/Sell/Swap  table\nLocal wargaming vendor\nBeginner sessions of Bolt Action running most club nights\nPick-up games\nFirst session is FREE\n\n  \n\nClub membership is extremely good value at £40 a year and includes:\n\nAll club nights\nAll club Big BAttles\nAll Tournaments\nFree Bolt Action starter army (we usually have 6-8 in stock)\nClub Polo shirt\nAccess to the clubs WhatsApp chat\nHardback Bolt action rulebooks reduced to £20 (Softback £10)\n\n\n\n 
URL:https://generalsoutpost.com/event/january-club-night-2/
LOCATION:URC Church Hall\, Denewell Avenue \, NE9 5HD\, URC CHURCH HALL\, Denewell Avenue\, Gateshead\, Tyne and Wear\, NE9 5HD\, United Kingdom
END:VEVENT
BEGIN:VEVENT
DTSTART;TZID=UTC:20260101T180000
DTEND;TZID=UTC:20260305T210000
DTSTAMP:20260423T125156
CREATED:20251204T105245Z
LAST-MODIFIED:20251204T105346Z
UID:527-1767290400-1772744400@generalsoutpost.com
SUMMARY:SAS / LRDG squad challenge
DESCRIPTION:The club is looking to improve its 8th Army collection by adding a a small recce force of either LRDG or SAS. \nFrom the January Club Night we will have 8th Army and Commonwealth army sprues of available for anyone who wishes to paint a five man plus Lt. recce force. \nThe 5+1 men must be returned by the March Club Night\, ready for the North African Big Battle later in March. \nWe have a nice LRGD truck and a sprue of 8th Army/Commonwealth models for the winner! \nLRDG Chevrolet Truck B\n  \nSpeak to Chris to reserve your sprue.
URL:https://generalsoutpost.com/event/sas-lrdg-squad-challenge/
LOCATION:URC Church Hall\, Denewell Avenue \, NE9 5HD\, URC CHURCH HALL\, Denewell Avenue\, Gateshead\, Tyne and Wear\, NE9 5HD\, United Kingdom
END:VEVENT
BEGIN:VEVENT
DTSTART;TZID=UTC:20260101T180000
DTEND;TZID=UTC:20260604T220000
DTSTAMP:20260423T125156
CREATED:20251126T103235Z
LAST-MODIFIED:20251126T105302Z
UID:502-1767290400-1780610400@generalsoutpost.com
SUMMARY:2026 Slow Grow Campaign
DESCRIPTION:Generals Outpost are hosting a slow grow Bolt Action campaign over the first 6 club nights of 2026. \nStarting at 666pts\, grow your force\, experience and win tally over six months of gaming. \nIts the perfect excuse to start a new army or update an existing one. \n  \nIn addition to the normal Bolt Action army structures the following will be in effect for month 1: \n\nMaximum of 666 pts\nMaximum of 9 order dice\nNo artillery platoons\nNo HE larger than 2″\nNo artillery or air observers\n\n  \nPrize\, trophy and all round bragging rights for the eventual winner as well as other prizes TBC. \n  \nClub member Tony Cowards will be managing the campaign. \nFree to club members.
URL:https://generalsoutpost.com/event/2026-slow-grow-campaign/
END:VEVENT
BEGIN:VEVENT
DTSTART;TZID=UTC:20260102T180000
DTEND;TZID=UTC:20260102T220000
DTSTAMP:20260423T125156
CREATED:20251126T104248Z
LAST-MODIFIED:20251126T104248Z
UID:507-1767376800-1767391200@generalsoutpost.com
SUMMARY:Club scenery Fix-It day
DESCRIPTION:On Friday 2nd January we are hosting our first fix-it day. \nThis is an opportunity to sort all of our scenery and fix/touch-up any that may have been bashed or broken over the last year. \nPizza and pop for all those willing to come along and help with running repairs. \n  \nPlease speak to Chris to book a place as we wont be able to cope with everyone volunteering!
URL:https://generalsoutpost.com/event/club-scenery-fix-it-day/
LOCATION:URC Church Hall\, Denewell Avenue \, NE9 5HD\, URC CHURCH HALL\, Denewell Avenue\, Gateshead\, Tyne and Wear\, NE9 5HD\, United Kingdom
END:VEVENT
END:VCALENDAR