BEGIN:VCALENDAR
VERSION:2.0
PRODID:-//GENERAL&#039;S OUTPOST - ECPv6.15.20//NONSGML v1.0//EN
CALSCALE:GREGORIAN
METHOD:PUBLISH
X-WR-CALNAME:GENERAL&#039;S OUTPOST
X-ORIGINAL-URL:https://generalsoutpost.com
X-WR-CALDESC:Events for GENERAL&#039;S OUTPOST
REFRESH-INTERVAL;VALUE=DURATION:PT1H
X-Robots-Tag:noindex
X-PUBLISHED-TTL:PT1H
BEGIN:VTIMEZONE
TZID:UTC
BEGIN:STANDARD
TZOFFSETFROM:+0000
TZOFFSETTO:+0000
TZNAME:UTC
DTSTART:20240101T000000
END:STANDARD
END:VTIMEZONE
BEGIN:VEVENT
DTSTART;TZID=UTC:20250403T180000
DTEND;TZID=UTC:20250807T200000
DTSTAMP:20260423T231103
CREATED:20241120T161453Z
LAST-MODIFIED:20250727T214354Z
UID:351-1743703200-1754596800@generalsoutpost.com
SUMMARY:Spring into Summer Club Challenge
DESCRIPTION:Our Sprint into Summer Club Challenge will be running from April – August 2025. \nPickup a challenge sheet (cost £2) and try and complete as many of the 40 challenges as you can. \n  \nWe have loads of  prizes to be won. The more challenges you complete\, the greater the chance of bagging a big prize! \n  \n\n£50 voucher for Gecko Gaming\n£25 voucher for Gecko Gaming\n£10 voucher for Gecko Gaming\n2x Bolt Action Infantry sets\n2x Bolt Action Vehicles\n1x K47 Infantry\n1x K47 Vehicle\n2x Scenery & Basing materials\n2x Gaming peripherals\n2x Paint sets\n1x Brush set\nCopy of the Bolt Action Compendium\nCopy of the 3rd edition “Armies of Great Britain” or “Armies of the United States”\n1x Random Warlord Games “starter set”\n2x Mystery Prize(s)\n….more to come
URL:https://generalsoutpost.com/event/summer-club-challenge/
LOCATION:URC Church Hall\, Denewell Avenue \, NE9 5HD\, URC CHURCH HALL\, Denewell Avenue\, Gateshead\, Tyne and Wear\, NE9 5HD\, United Kingdom
END:VEVENT
BEGIN:VEVENT
DTSTART;TZID=UTC:20250605T180000
DTEND;TZID=UTC:20250605T220000
DTSTAMP:20260423T231103
CREATED:20241120T162544Z
LAST-MODIFIED:20241120T162544Z
UID:363-1749146400-1749160800@generalsoutpost.com
SUMMARY:June Club Night
DESCRIPTION:Join us for our monthly Club Night 6pm – 10pm \n\nFully stocked terrain cupboard\nBuy/Sell/Swap  table\nLocal wargaming vendor\nBeginner sessions of Bolt Action\nPick-up games\n\nFirst session is FREE \nThen £5 for non-members or FREE for club members (Club membership can be paid for on entry) \n \n  \nClub Membership only £30 a year \nor \nClub Membership until the end of 2025 + Free starter army (~500pts) + Hardback 3rd Edition Bolt action Rulebook + Club Polo shirt all for £50
URL:https://generalsoutpost.com/event/june-club-night/
LOCATION:URC Church Hall\, Denewell Avenue \, NE9 5HD\, URC CHURCH HALL\, Denewell Avenue\, Gateshead\, Tyne and Wear\, NE9 5HD\, United Kingdom
END:VEVENT
BEGIN:VEVENT
DTSTART;TZID=UTC:20250607T090000
DTEND;TZID=UTC:20250607T170000
DTSTAMP:20260423T231103
CREATED:20241120T160833Z
LAST-MODIFIED:20241120T160833Z
UID:347-1749286800-1749315600@generalsoutpost.com
SUMMARY:K47 Tournament
DESCRIPTION:The weird war continues in  a day of tournament action this June. \n4x 1000pt games\, Saturday 7th June\, 09:00-17:00. \n  \nHopefully we will have our usual spread of wonderful tournament prizes with support from Warlord Games. \n  \n£10 or free to club members.
URL:https://generalsoutpost.com/event/k47-tournament/
END:VEVENT
END:VCALENDAR