BEGIN:VCALENDAR
VERSION:2.0
PRODID:-//GENERAL&#039;S OUTPOST - ECPv6.15.20//NONSGML v1.0//EN
CALSCALE:GREGORIAN
METHOD:PUBLISH
X-ORIGINAL-URL:https://generalsoutpost.com
X-WR-CALDESC:Events for GENERAL&#039;S OUTPOST
REFRESH-INTERVAL;VALUE=DURATION:PT1H
X-Robots-Tag:noindex
X-PUBLISHED-TTL:PT1H
BEGIN:VTIMEZONE
TZID:UTC
BEGIN:STANDARD
TZOFFSETFROM:+0000
TZOFFSETTO:+0000
TZNAME:UTC
DTSTART:20240101T000000
END:STANDARD
END:VTIMEZONE
BEGIN:VEVENT
DTSTART;TZID=UTC:20250306T080000
DTEND;TZID=UTC:20250503T160000
DTSTAMP:20260424T003830
CREATED:20250404T135824Z
LAST-MODIFIED:20250404T135824Z
UID:410-1741248000-1746288000@generalsoutpost.com
SUMMARY:Guess how many dice in the jar.
DESCRIPTION:Our fundraising competition this year is a classic. Guess the number of dice in the jar. \n£2 a guess\, or 3 guesses for £5. \nAll monies raised will go to Save the Children. \nThe guess closest to the actual total will win one of a selection of Bolt Action army starter boxes. \nGuess the number of dice in the jar\nSpeak to Chris at any club night or event to enter.
URL:https://generalsoutpost.com/event/guess-how-many-dice-in-the-jar/
LOCATION:URC Church Hall\, Denewell Avenue \, NE9 5HD\, URC CHURCH HALL\, Denewell Avenue\, Gateshead\, Tyne and Wear\, NE9 5HD\, United Kingdom
END:VEVENT
BEGIN:VEVENT
DTSTART;TZID=UTC:20250403T180000
DTEND;TZID=UTC:20250807T200000
DTSTAMP:20260424T003830
CREATED:20241120T161453Z
LAST-MODIFIED:20250727T214354Z
UID:351-1743703200-1754596800@generalsoutpost.com
SUMMARY:Spring into Summer Club Challenge
DESCRIPTION:Our Sprint into Summer Club Challenge will be running from April – August 2025. \nPickup a challenge sheet (cost £2) and try and complete as many of the 40 challenges as you can. \n  \nWe have loads of  prizes to be won. The more challenges you complete\, the greater the chance of bagging a big prize! \n  \n\n£50 voucher for Gecko Gaming\n£25 voucher for Gecko Gaming\n£10 voucher for Gecko Gaming\n2x Bolt Action Infantry sets\n2x Bolt Action Vehicles\n1x K47 Infantry\n1x K47 Vehicle\n2x Scenery & Basing materials\n2x Gaming peripherals\n2x Paint sets\n1x Brush set\nCopy of the Bolt Action Compendium\nCopy of the 3rd edition “Armies of Great Britain” or “Armies of the United States”\n1x Random Warlord Games “starter set”\n2x Mystery Prize(s)\n….more to come
URL:https://generalsoutpost.com/event/summer-club-challenge/
LOCATION:URC Church Hall\, Denewell Avenue \, NE9 5HD\, URC CHURCH HALL\, Denewell Avenue\, Gateshead\, Tyne and Wear\, NE9 5HD\, United Kingdom
END:VEVENT
BEGIN:VEVENT
DTSTART;TZID=UTC:20250501T180000
DTEND;TZID=UTC:20250501T220000
DTSTAMP:20260424T003830
CREATED:20241120T162346Z
LAST-MODIFIED:20241120T162423Z
UID:361-1746122400-1746136800@generalsoutpost.com
SUMMARY:May Club Night
DESCRIPTION:Join us for our monthly Club Night 6pm – 10pm \n\nFully stocked terrain cupboard\nBuy/Sell/Swap  table\nLocal wargaming vendor\nBeginner sessions of Bolt Action\nPick-up games\n\nFirst session is FREE \nThen £5 for non-members or FREE for club members (Club membership can be paid for on entry) \n \n  \nClub Membership only £30 a year \nor \nClub Membership until the end of 2025 + Free starter army (~500pts) + Hardback 3rd Edition Bolt action Rulebook + Club Polo shirt all for £50
URL:https://generalsoutpost.com/event/may-club-night/
LOCATION:URC Church Hall\, Denewell Avenue \, NE9 5HD\, URC CHURCH HALL\, Denewell Avenue\, Gateshead\, Tyne and Wear\, NE9 5HD\, United Kingdom
END:VEVENT
BEGIN:VEVENT
DTSTART;TZID=UTC:20250503T090000
DTEND;TZID=UTC:20250503T170000
DTSTAMP:20260424T003830
CREATED:20241120T160427Z
LAST-MODIFIED:20250425T171918Z
UID:345-1746262800-1746291600@generalsoutpost.com
SUMMARY:Fall of France\, Dunkirk - Big Battle Saturday
DESCRIPTION:Join us on 3rd May at one of our Big Battle Saturday events\,  Dunkirk. \nPlay as either Blitzkrieg Germans or as British or French defenders as the perimeter around Dunkirk closes\, can the allies hold old long enough to evacuate the BEF from the Beaches. \nThe 3rd May is also Chris’s 50th Birthday! \nFree party food lunch will be laid on for all players. \n  \nEvent Awards for Most cinematic moment & Most sporting General. \n£10 or free to club members. \nDunkirk Players-Pack 5.0
URL:https://generalsoutpost.com/event/fall-of-france-dunkirk-big-battle-saturday/
END:VEVENT
END:VCALENDAR