BEGIN:VCALENDAR
VERSION:2.0
PRODID:-//GENERAL&#039;S OUTPOST - ECPv6.15.20//NONSGML v1.0//EN
CALSCALE:GREGORIAN
METHOD:PUBLISH
X-WR-CALNAME:GENERAL&#039;S OUTPOST
X-ORIGINAL-URL:https://generalsoutpost.com
X-WR-CALDESC:Events for GENERAL&#039;S OUTPOST
REFRESH-INTERVAL;VALUE=DURATION:PT1H
X-Robots-Tag:noindex
X-PUBLISHED-TTL:PT1H
BEGIN:VTIMEZONE
TZID:UTC
BEGIN:STANDARD
TZOFFSETFROM:+0000
TZOFFSETTO:+0000
TZNAME:UTC
DTSTART:20230101T000000
END:STANDARD
END:VTIMEZONE
BEGIN:VTIMEZONE
TZID:Europe/London
BEGIN:DAYLIGHT
TZOFFSETFROM:+0000
TZOFFSETTO:+0100
TZNAME:BST
DTSTART:20230326T010000
END:DAYLIGHT
BEGIN:STANDARD
TZOFFSETFROM:+0100
TZOFFSETTO:+0000
TZNAME:GMT
DTSTART:20231029T010000
END:STANDARD
BEGIN:DAYLIGHT
TZOFFSETFROM:+0000
TZOFFSETTO:+0100
TZNAME:BST
DTSTART:20240331T010000
END:DAYLIGHT
BEGIN:STANDARD
TZOFFSETFROM:+0100
TZOFFSETTO:+0000
TZNAME:GMT
DTSTART:20241027T010000
END:STANDARD
BEGIN:DAYLIGHT
TZOFFSETFROM:+0000
TZOFFSETTO:+0100
TZNAME:BST
DTSTART:20250330T010000
END:DAYLIGHT
BEGIN:STANDARD
TZOFFSETFROM:+0100
TZOFFSETTO:+0000
TZNAME:GMT
DTSTART:20251026T010000
END:STANDARD
END:VTIMEZONE
BEGIN:VEVENT
DTSTART;TZID=UTC:20240608T090000
DTEND;TZID=UTC:20240608T170000
DTSTAMP:20260423T202915
CREATED:20240423T182204Z
LAST-MODIFIED:20240423T182204Z
UID:184-1717837200-1717866000@generalsoutpost.com
SUMMARY:D-Day 80th Anniversary
DESCRIPTION:Join us across 3 tables for a massive D-Day Celebration. \nPlay as the Germans or Allies in our multi table D-day landing Game featuring thousands of points per side  \nEntry is Free for members – £10 for non members
URL:https://generalsoutpost.com/event/d-day-80th-anniversary/
LOCATION:URC Church Hall\, Denewell Avenue \, NE9 5HD\, URC CHURCH HALL\, Denewell Avenue\, Gateshead\, Tyne and Wear\, NE9 5HD\, United Kingdom
ATTACH;FMTTYPE=image/jpeg:https://generalsoutpost.com/wp-content/uploads/2024/04/image0-1-2.jpeg
END:VEVENT
BEGIN:VEVENT
DTSTART;TZID=UTC:20240606T180000
DTEND;TZID=UTC:20240905T200000
DTSTAMP:20260423T202915
CREATED:20240709T104850Z
LAST-MODIFIED:20240709T104850Z
UID:242-1717696800-1725566400@generalsoutpost.com
SUMMARY:Summer Gaming Challenge
DESCRIPTION:enter our Summer Gaming Challenge for only £2. \nPlay games of Bolt Action\, paint new units and take part in club events to win some fantastic prizes! \nJune – September ’24. Closing date: 5th September ’24. \nSee Chris to pickup an entry form.
URL:https://generalsoutpost.com/event/summer-gaming-challenge/
LOCATION:Tyne and Wear
END:VEVENT
BEGIN:VEVENT
DTSTART;TZID=UTC:20240606T180000
DTEND;TZID=UTC:20240606T210000
DTSTAMP:20260423T202915
CREATED:20240502T113043Z
LAST-MODIFIED:20240502T113110Z
UID:192-1717696800-1717707600@generalsoutpost.com
SUMMARY:Club Night - June
DESCRIPTION:Join us for our monthly Club Night 6pm – 9pm \n\nFully stocked terrain cupboard\nBuy/Sell/Swap  table\nLocal wargaming vendor\nBeginner sessions of Bolt Action\nPick-up games\n\nFirst session is FREE \nThen £5 for non-members or FREE for club members (Club membership can be paid for on entry)
URL:https://generalsoutpost.com/event/club-night-june/
LOCATION:URC Church Hall\, Denewell Avenue \, NE9 5HD\, URC CHURCH HALL\, Denewell Avenue\, Gateshead\, Tyne and Wear\, NE9 5HD\, United Kingdom
ATTACH;FMTTYPE=image/jpeg:https://generalsoutpost.com/wp-content/uploads/2024/04/BA-2048x1365-1.jpg
END:VEVENT
BEGIN:VEVENT
DTSTART;TZID=Europe/London:20240504T090000
DTEND;TZID=Europe/London:20240504T170000
DTSTAMP:20260423T202915
CREATED:20240423T170839Z
LAST-MODIFIED:20240423T172415Z
UID:162-1714813200-1714842000@generalsoutpost.com
SUMMARY:Konflikt 47 Tournament
DESCRIPTION:Join us for a Konflikt 47 tournament of epic proportions!  \nFeaturing official prize support from Warlord Games as well as local stores! \n \nConstruct a list of 1000 Points and battle away across a series of 3 to 4 games. \nEntry is FREE for club members or £10 for non members
URL:https://generalsoutpost.com/event/test/
LOCATION:URC Church Hall\, Denewell Avenue \, NE9 5HD\, URC CHURCH HALL\, Denewell Avenue\, Gateshead\, Tyne and Wear\, NE9 5HD\, United Kingdom
ATTACH;FMTTYPE=image/jpeg:https://generalsoutpost.com/wp-content/uploads/2024/04/Konflikt-Banner.jpg
END:VEVENT
BEGIN:VEVENT
DTSTART;TZID=UTC:20240502T180000
DTEND;TZID=UTC:20240502T210000
DTSTAMP:20260423T202915
CREATED:20240502T112715Z
LAST-MODIFIED:20240502T112723Z
UID:190-1714672800-1714683600@generalsoutpost.com
SUMMARY:Club Night - May
DESCRIPTION:Join us for our monthly Club Night 6pm – 9pm \n\nFully stocked terrain cupboard\nBuy/Sell/Swap  table\nLocal wargaming vendor\nBeginner sessions of Bolt Action\nPick-up games\n\nFirst session is FREE \nThen £5 for non-members or FREE for club members (Club membership can be paid for on entry)
URL:https://generalsoutpost.com/event/club-night-may/
LOCATION:URC Church Hall\, Denewell Avenue \, NE9 5HD\, URC CHURCH HALL\, Denewell Avenue\, Gateshead\, Tyne and Wear\, NE9 5HD\, United Kingdom
ATTACH;FMTTYPE=image/jpeg:https://generalsoutpost.com/wp-content/uploads/2024/04/image0-1-1536x765-1.jpeg
END:VEVENT
END:VCALENDAR