BEGIN:VCALENDAR
VERSION:2.0
PRODID:-//GENERAL&#039;S OUTPOST - ECPv6.15.20//NONSGML v1.0//EN
CALSCALE:GREGORIAN
METHOD:PUBLISH
X-ORIGINAL-URL:https://generalsoutpost.com
X-WR-CALDESC:Events for GENERAL&#039;S OUTPOST
REFRESH-INTERVAL;VALUE=DURATION:PT1H
X-Robots-Tag:noindex
X-PUBLISHED-TTL:PT1H
BEGIN:VTIMEZONE
TZID:UTC
BEGIN:STANDARD
TZOFFSETFROM:+0000
TZOFFSETTO:+0000
TZNAME:UTC
DTSTART:20240101T000000
END:STANDARD
END:VTIMEZONE
BEGIN:VEVENT
DTSTART;TZID=UTC:20251115T090000
DTEND;TZID=UTC:20251115T170000
DTSTAMP:20260423T231741
CREATED:20241120T163143Z
LAST-MODIFIED:20241120T163143Z
UID:366-1763197200-1763226000@generalsoutpost.com
SUMMARY:Kelly's Heroes
DESCRIPTION:Kelly’s Heroes recreate a 70’s movie classic in 28mm. \nA series of linked battles based on the classic Movie. \nAmerican\, Germans\, Tigers\, Shermans and quotable scenes at every turn. What’s not to like. \nMore information will be posted closer to the event.
URL:https://generalsoutpost.com/event/kellys-heroes/
LOCATION:URC Church Hall\, Denewell Avenue \, NE9 5HD\, URC CHURCH HALL\, Denewell Avenue\, Gateshead\, Tyne and Wear\, NE9 5HD\, United Kingdom
END:VEVENT
BEGIN:VEVENT
DTSTART;TZID=UTC:20251129T090000
DTEND;TZID=UTC:20251129T170000
DTSTAMP:20260423T231741
CREATED:20250804T131927Z
LAST-MODIFIED:20250804T133915Z
UID:468-1764406800-1764435600@generalsoutpost.com
SUMMARY:1st Aid Training for Club & Church members
DESCRIPTION:1-day ITC Outdoor 1st Aid Training at Denewell Ave. URC Hall. \n\nSaturday 29th November 2025. 09:00-17:00\n£50pp\, a reduction from the usual rate of £70.\nA very hands on course covering everything needed to triage and treat an unwitnessed collapse. Many of our members have done this course before and it is always well received.\n\nMaximum of ten spaces. Speak to Chris to book yours.
URL:https://generalsoutpost.com/event/1st-aid-training-for-club-church-members/
LOCATION:Tyne and Wear
END:VEVENT
BEGIN:VEVENT
DTSTART;TZID=UTC:20251204T180000
DTEND;TZID=UTC:20251204T220000
DTSTAMP:20260423T231741
CREATED:20250808T115657Z
LAST-MODIFIED:20250808T115657Z
UID:475-1764871200-1764885600@generalsoutpost.com
SUMMARY:December Club Night
DESCRIPTION:December Club Night\n\n\n\n\n4 December @ 6:00 pm – 10:00 pm\n\n\n\nJoin us for our monthly Club Night 6pm – 10pm \n\nFully stocked terrain cupboard\nBuy/Sell/Swap  table\nLocal wargaming vendor\nBeginner sessions of Bolt Action\nPick-up games\n\nFirst session is FREE \nThen £5 for non-members or FREE for club members (Club membership can be paid for on entry) \n \n  \nClub Membership only £30 a year \nor \nClub Membership until the end of 2025 + Free starter army (~500pts) + Hardback 3rd Edition Bolt action Rulebook + Club Polo shirt all for £50
URL:https://generalsoutpost.com/event/december-club-night-2/
LOCATION:URC Church Hall\, Denewell Avenue \, NE9 5HD\, URC CHURCH HALL\, Denewell Avenue\, Gateshead\, Tyne and Wear\, NE9 5HD\, United Kingdom
END:VEVENT
BEGIN:VEVENT
DTSTART;TZID=UTC:20260101T180000
DTEND;TZID=UTC:20260101T220000
DTSTAMP:20260423T231741
CREATED:20251126T103810Z
LAST-MODIFIED:20251126T103851Z
UID:504-1767290400-1767304800@generalsoutpost.com
SUMMARY:January Club Night
DESCRIPTION:January Club Night\n\n\n\n\n1st January  18:00 – 22:00\n\n\n\nJoin us for our monthly Club Night 18:00-22:00 \n\nFully stocked terrain cupboard\nBuy/Sell/Swap  table\nLocal wargaming vendor\nBeginner sessions of Bolt Action running most club nights\nPick-up games\nFirst session is FREE\n\n  \n\nClub membership is extremely good value at £40 a year and includes:\n\nAll club nights\nAll club Big BAttles\nAll Tournaments\nFree Bolt Action starter army (we usually have 6-8 in stock)\nClub Polo shirt\nAccess to the clubs WhatsApp chat\nHardback Bolt action rulebooks reduced to £20 (Softback £10)\n\n\n\n 
URL:https://generalsoutpost.com/event/january-club-night-2/
LOCATION:URC Church Hall\, Denewell Avenue \, NE9 5HD\, URC CHURCH HALL\, Denewell Avenue\, Gateshead\, Tyne and Wear\, NE9 5HD\, United Kingdom
END:VEVENT
BEGIN:VEVENT
DTSTART;TZID=UTC:20260101T180000
DTEND;TZID=UTC:20260305T210000
DTSTAMP:20260423T231741
CREATED:20251204T105245Z
LAST-MODIFIED:20251204T105346Z
UID:527-1767290400-1772744400@generalsoutpost.com
SUMMARY:SAS / LRDG squad challenge
DESCRIPTION:The club is looking to improve its 8th Army collection by adding a a small recce force of either LRDG or SAS. \nFrom the January Club Night we will have 8th Army and Commonwealth army sprues of available for anyone who wishes to paint a five man plus Lt. recce force. \nThe 5+1 men must be returned by the March Club Night\, ready for the North African Big Battle later in March. \nWe have a nice LRGD truck and a sprue of 8th Army/Commonwealth models for the winner! \nLRDG Chevrolet Truck B\n  \nSpeak to Chris to reserve your sprue.
URL:https://generalsoutpost.com/event/sas-lrdg-squad-challenge/
LOCATION:URC Church Hall\, Denewell Avenue \, NE9 5HD\, URC CHURCH HALL\, Denewell Avenue\, Gateshead\, Tyne and Wear\, NE9 5HD\, United Kingdom
END:VEVENT
BEGIN:VEVENT
DTSTART;TZID=UTC:20260101T180000
DTEND;TZID=UTC:20260604T220000
DTSTAMP:20260423T231741
CREATED:20251126T103235Z
LAST-MODIFIED:20251126T105302Z
UID:502-1767290400-1780610400@generalsoutpost.com
SUMMARY:2026 Slow Grow Campaign
DESCRIPTION:Generals Outpost are hosting a slow grow Bolt Action campaign over the first 6 club nights of 2026. \nStarting at 666pts\, grow your force\, experience and win tally over six months of gaming. \nIts the perfect excuse to start a new army or update an existing one. \n  \nIn addition to the normal Bolt Action army structures the following will be in effect for month 1: \n\nMaximum of 666 pts\nMaximum of 9 order dice\nNo artillery platoons\nNo HE larger than 2″\nNo artillery or air observers\n\n  \nPrize\, trophy and all round bragging rights for the eventual winner as well as other prizes TBC. \n  \nClub member Tony Cowards will be managing the campaign. \nFree to club members.
URL:https://generalsoutpost.com/event/2026-slow-grow-campaign/
LOCATION:Tyne and Wear
END:VEVENT
BEGIN:VEVENT
DTSTART;TZID=UTC:20260102T180000
DTEND;TZID=UTC:20260102T220000
DTSTAMP:20260423T231741
CREATED:20251126T104248Z
LAST-MODIFIED:20251126T104248Z
UID:507-1767376800-1767391200@generalsoutpost.com
SUMMARY:Club scenery Fix-It day
DESCRIPTION:On Friday 2nd January we are hosting our first fix-it day. \nThis is an opportunity to sort all of our scenery and fix/touch-up any that may have been bashed or broken over the last year. \nPizza and pop for all those willing to come along and help with running repairs. \n  \nPlease speak to Chris to book a place as we wont be able to cope with everyone volunteering!
URL:https://generalsoutpost.com/event/club-scenery-fix-it-day/
LOCATION:URC Church Hall\, Denewell Avenue \, NE9 5HD\, URC CHURCH HALL\, Denewell Avenue\, Gateshead\, Tyne and Wear\, NE9 5HD\, United Kingdom
END:VEVENT
BEGIN:VEVENT
DTSTART;TZID=UTC:20260205T180000
DTEND;TZID=UTC:20260205T200000
DTSTAMP:20260423T231741
CREATED:20251204T103349Z
LAST-MODIFIED:20251204T103349Z
UID:521-1770314400-1770321600@generalsoutpost.com
SUMMARY:February 2026 Club Night
DESCRIPTION:February Club Night\n\n\n\n\n5 February @ 6:00 pm – 10:00 pm\n\n\n\nJoin us for our monthly Club Night 6pm – 10pm \n\nFully stocked terrain cupboard\nBuy/Sell/Swap  table\nLocal wargaming vendor\nBeginner sessions of Bolt Action\nPick-up games\n\nFirst session is FREE \nThen £5 for non-members or FREE for club members (Club membership can be paid for on entry)
URL:https://generalsoutpost.com/event/february-2026-club-night/
LOCATION:URC Church Hall\, Denewell Avenue \, NE9 5HD\, URC CHURCH HALL\, Denewell Avenue\, Gateshead\, Tyne and Wear\, NE9 5HD\, United Kingdom
END:VEVENT
BEGIN:VEVENT
DTSTART;TZID=UTC:20260205T180000
DTEND;TZID=UTC:20260507T210000
DTSTAMP:20260423T231741
CREATED:20260202T205636Z
LAST-MODIFIED:20260202T205636Z
UID:568-1770314400-1778187600@generalsoutpost.com
SUMMARY:Club scenery painting competition
DESCRIPTION:Grab a piece of scenery (large or small) from Chris and paint it for the Club. \nReturn your painted scenery by the May club night to enter. \nThere will be multiple prizes (our biggest pot yet!). \nThe lucky winners will be selected by club member votes……and one lucky random entry will also win a prize. \n 
URL:https://generalsoutpost.com/event/club-scenery-painting-competition/
LOCATION:URC Church Hall\, Denewell Avenue \, NE9 5HD\, URC CHURCH HALL\, Denewell Avenue\, Gateshead\, Tyne and Wear\, NE9 5HD\, United Kingdom
END:VEVENT
BEGIN:VEVENT
DTSTART;TZID=UTC:20260305T180000
DTEND;TZID=UTC:20260305T220000
DTSTAMP:20260423T231741
CREATED:20251204T103504Z
LAST-MODIFIED:20251204T105442Z
UID:523-1772733600-1772748000@generalsoutpost.com
SUMMARY:March 2026 Club Night
DESCRIPTION:March Club Night\n\n\n\n\n5 March @ 6:00 pm – 10:00 pm\n\n\n\nJoin us for our monthly Club Night 6pm – 10pm \n\nFully stocked terrain cupboard\nBuy/Sell/Swap  table\nLocal wargaming vendor\nBeginner sessions of Bolt Action\nPick-up games\n\nFirst session is FREE \nThen £5 for non-members or FREE for club members (Club membership can be paid for on entry)
URL:https://generalsoutpost.com/event/march-2026-club-night/
LOCATION:URC Church Hall\, Denewell Avenue \, NE9 5HD\, URC CHURCH HALL\, Denewell Avenue\, Gateshead\, Tyne and Wear\, NE9 5HD\, United Kingdom
END:VEVENT
BEGIN:VEVENT
DTSTART;TZID=UTC:20260314T090000
DTEND;TZID=UTC:20260314T170000
DTSTAMP:20260423T231741
CREATED:20251204T103035Z
LAST-MODIFIED:20260202T201413Z
UID:517-1773478800-1773507600@generalsoutpost.com
SUMMARY:Bolt Action North Africa - El Alamein
DESCRIPTION:Our 1st Bolt Action “Big Battle” of 2026 will be set amongst the sands of North Africa at El Alamein. \nIf you don’t currently have any 8th Army\, Italians or Afrika Korps then now would be a good time to start preparing your first platoon or tank troop. \nFive multiplayer tables each representing a different part of the line… \nFor more information or to book you place speak to one of the TOs: [Pete & Chris] \nEl Alamein players pack v1.2 \nEntry: £15….free to club members as usual \n  \nEvent full! Currently 32/32 places have already been filled.
URL:https://generalsoutpost.com/event/north-africa-battles-in-the-sand/
LOCATION:URC Church Hall\, Denewell Avenue \, NE9 5HD\, URC CHURCH HALL\, Denewell Avenue\, Gateshead\, Tyne and Wear\, NE9 5HD\, United Kingdom
END:VEVENT
BEGIN:VEVENT
DTSTART;TZID=UTC:20260402T180000
DTEND;TZID=UTC:20260402T220000
DTSTAMP:20260423T231741
CREATED:20251204T105659Z
LAST-MODIFIED:20251204T105908Z
UID:530-1775152800-1775167200@generalsoutpost.com
SUMMARY:April 2026 Club Night
DESCRIPTION:April Club Night\n\n\n\n\n2 April @ 6:00 pm – 10:00 pm\n\n\n\nJoin us for our monthly Club Night 6pm – 10pm \n\nFully stocked terrain cupboard\nBuy/Sell/Swap  table\nLocal wargaming vendor\nBeginner sessions of Bolt Action\nPick-up games\n\nFirst session is FREE \nThen £5 for non-members or FREE for club members (Club membership can be paid for on entry)
URL:https://generalsoutpost.com/event/april-2026-club-night/
LOCATION:URC Church Hall\, Denewell Avenue \, NE9 5HD\, URC CHURCH HALL\, Denewell Avenue\, Gateshead\, Tyne and Wear\, NE9 5HD\, United Kingdom
END:VEVENT
BEGIN:VEVENT
DTSTART;TZID=UTC:20260418T090000
DTEND;TZID=UTC:20260418T170000
DTSTAMP:20260423T231741
CREATED:20251204T104156Z
LAST-MODIFIED:20251204T104156Z
UID:525-1776502800-1776531600@generalsoutpost.com
SUMMARY:Horus Heresy - Clash of the Titans
DESCRIPTION:Our first ever Titan “Big Battle” will be taking place on Saturday 18th April. \nBook a place for you maniple at this EPIC event and stride out for the Emperor or Warmaster. \nFor Clarity: This is a 28mm scale event\, so expect some BIG Titans on the table. \nDepending on how many people can play we may decide to use the Adeptus Titanicus ruleset for these games… \n[TO: TBC] \nEvent cost: £15…….free to members as usual
URL:https://generalsoutpost.com/event/horus-heresy-clash-of-the-titans/
LOCATION:URC Church Hall\, Denewell Avenue \, NE9 5HD\, URC CHURCH HALL\, Denewell Avenue\, Gateshead\, Tyne and Wear\, NE9 5HD\, United Kingdom
END:VEVENT
BEGIN:VEVENT
DTSTART;TZID=UTC:20260506T183000
DTEND;TZID=UTC:20260506T220000
DTSTAMP:20260423T231741
CREATED:20260409T095623Z
LAST-MODIFIED:20260409T095623Z
UID:591-1778092200-1778104800@generalsoutpost.com
SUMMARY:Launch of "Dad's War Room - Doncaster"
DESCRIPTION:*Dad’s War Room – Doncaster* is opening on Wednesday 6th May. \nThis is the the first offshoot of the original “Dads War Room” in Hull that a few club members ran games at a few months ago. \nClub members have offered to travel down and run two Bolt Action intro game tables for them on their opening night. \nWe’ll be taking all the tables\, mats and scenery we need including a handful of the club armies\, dice\, markers etc.
URL:https://generalsoutpost.com/event/launch-of-dads-war-room-doncaster/
LOCATION:Kirk Sandall & Edenthorpe Church Hall\, next to Rokeby Gardens\, Queen Mary Crescent (Off Brecks Lane) Kirk Sandall DN3 1BY\, Kirk Sandall & Edenthorpe Church Hall\, Doncaster\, DN3 1BY\, United Kingdom
END:VEVENT
BEGIN:VEVENT
DTSTART;TZID=UTC:20260507T180000
DTEND;TZID=UTC:20260507T220000
DTSTAMP:20260423T231741
CREATED:20251204T105808Z
LAST-MODIFIED:20251204T105808Z
UID:532-1778176800-1778191200@generalsoutpost.com
SUMMARY:May 2026 Club Night
DESCRIPTION:May Club Night\n\n\n\n\n7 May @ 6:00 pm – 10:00 pm\n\n\n\nJoin us for our monthly Club Night 6pm – 10pm \n\nFully stocked terrain cupboard\nBuy/Sell/Swap  table\nLocal wargaming vendor\nBeginner sessions of Bolt Action\nPick-up games\n\nFirst session is FREE \nThen £5 for non-members or FREE for club members (Club membership can be paid for on entry)
URL:https://generalsoutpost.com/event/may-2026-club-night/
LOCATION:Tyne and Wear
END:VEVENT
BEGIN:VEVENT
DTSTART;TZID=UTC:20260516T083000
DTEND;TZID=UTC:20260516T173000
DTSTAMP:20260423T231741
CREATED:20251204T110223Z
LAST-MODIFIED:20260224T142213Z
UID:534-1778920200-1778952600@generalsoutpost.com
SUMMARY:Bolt Action Doubles Tournament
DESCRIPTION:Our 1st ever Bolt Action Doubles Tournament. \nDouble the participants! Double the fun? \nTeams of two must each select a valid 750pt Bolt Action force (maximum 11 dice). \nThe two players armies do not have to be from the same nation and are completely separate in all regards. \nArmy special rules can only effect your army….not your ally (even if you are the same army). The only exception are medics…..who help everyone. \nSingle player but still want to enter? Speak to Chris and he will find you are partner. \nPrizes\, Prizes\, Prizes! Places The top 4 placed teams can expect to receive a share of our usual slew of prizes. In addition we have awards/prizes for: \n\nMost Sporting Player\nBest Presented individual army\nMost Cinematic Moment\nOne lucky random player\nWooden Spoon\n\nCost: £15. …….free to club members \n[TO’s: Jamie & Chris] \nBolt Action Doubles Tournament Generals Outpost May 2026 v1.2
URL:https://generalsoutpost.com/event/bolt-action-doubles-tournament/
LOCATION:URC Church Hall\, Denewell Avenue \, NE9 5HD\, URC CHURCH HALL\, Denewell Avenue\, Gateshead\, Tyne and Wear\, NE9 5HD\, United Kingdom
END:VEVENT
BEGIN:VEVENT
DTSTART;TZID=UTC:20260604T180000
DTEND;TZID=UTC:20260604T220000
DTSTAMP:20260423T231741
CREATED:20251209T132346Z
LAST-MODIFIED:20251209T132346Z
UID:538-1780596000-1780610400@generalsoutpost.com
SUMMARY:June 2026 Club Night
DESCRIPTION:May Club Night\n\n\n\n\n4 June @ 6:00 pm – 10:00 pm\n\n\n\nJoin us for our monthly Club Night 6pm – 10pm \n\nFully stocked terrain cupboard\nBuy/Sell/Swap  table\nLocal wargaming vendor\nBeginner sessions of Bolt Action\nPick-up games\n\nFirst session is FREE \nThen £5 for non-members or FREE for club members (Club membership can be paid for on entry)
URL:https://generalsoutpost.com/event/june-2026-club-night/
LOCATION:URC Church Hall\, Denewell Avenue \, NE9 5HD\, URC CHURCH HALL\, Denewell Avenue\, Gateshead\, Tyne and Wear\, NE9 5HD\, United Kingdom
END:VEVENT
BEGIN:VEVENT
DTSTART;TZID=UTC:20260607T093000
DTEND;TZID=UTC:20260610T163000
DTSTAMP:20260423T231741
CREATED:20251126T104540Z
LAST-MODIFIED:20260211T125229Z
UID:509-1780824600-1781109000@generalsoutpost.com
SUMMARY:Northern Model Show - Assault on Merville Battery
DESCRIPTION:Work is currently in progress with the new 3D elements of our Merville Battery Bolt Action scenery. \nPictures as soon as we have some… \nThe games will take place at the Norther Model Show on 7th June where we are running two interactive demo tables: \n  \n6’x6′ Assault on Merville Battery interactive demo. \n6’x4′ Konflikt ’47 interactive demo. \n  \nMore info as soon as we have it…
URL:https://generalsoutpost.com/event/assault-on-merville-battery/
LOCATION:Tyne and Wear
END:VEVENT
BEGIN:VEVENT
DTSTART;TZID=UTC:20260627T090000
DTEND;TZID=UTC:20260627T170000
DTSTAMP:20260423T231741
CREATED:20251209T133751Z
LAST-MODIFIED:20251209T133751Z
UID:556-1782550800-1782579600@generalsoutpost.com
SUMMARY:Invasion of Italy
DESCRIPTION:On 27th June we are hosting our first Big Battle day set in Italy & Sicily. \nJoin us for the Salerno landings\, the assault on  Monte Cassino and the inevitable German & Italian counter attacks! \n  \n  \nTO: Chris & Owen \nEntry: £15. Free to club members as usual.
URL:https://generalsoutpost.com/event/invasion-of-italy/
LOCATION:URC Church Hall\, Denewell Avenue \, NE9 5HD\, URC CHURCH HALL\, Denewell Avenue\, Gateshead\, Tyne and Wear\, NE9 5HD\, United Kingdom
END:VEVENT
BEGIN:VEVENT
DTSTART;TZID=UTC:20260702T180000
DTEND;TZID=UTC:20260702T220000
DTSTAMP:20260423T231741
CREATED:20251209T132500Z
LAST-MODIFIED:20251209T132500Z
UID:541-1783015200-1783029600@generalsoutpost.com
SUMMARY:July 2026 Club Night
DESCRIPTION:May Club Night\n\n\n\n\n2 July @ 6:00 pm – 10:00 pm\n\n\n\nJoin us for our monthly Club Night 6pm – 10pm \n\nFully stocked terrain cupboard\nBuy/Sell/Swap  table\nLocal wargaming vendor\nBeginner sessions of Bolt Action\nPick-up games\n\nFirst session is FREE \nThen £5 for non-members or FREE for club members (Club membership can be paid for on entry)
URL:https://generalsoutpost.com/event/july-2026-club-night/
LOCATION:URC Church Hall\, Denewell Avenue \, NE9 5HD\, URC CHURCH HALL\, Denewell Avenue\, Gateshead\, Tyne and Wear\, NE9 5HD\, United Kingdom
END:VEVENT
BEGIN:VEVENT
DTSTART;TZID=UTC:20260711T100000
DTEND;TZID=UTC:20260711T170000
DTSTAMP:20260423T231741
CREATED:20260211T153629Z
LAST-MODIFIED:20260211T155628Z
UID:574-1783764000-1783789200@generalsoutpost.com
SUMMARY:MITHC themed K47 Big Battle
DESCRIPTION:Our first K47 Big Battle of 2026 will be a Man in the High Castle themed event. \n  \nCheck back  in March 2026 for more details…. \n  \n[TO’s Dom\, Matt & Sol]
URL:https://generalsoutpost.com/event/mithc-themed-k47-big-battle/
LOCATION:URC Church Hall\, Denewell Avenue \, NE9 5HD\, URC CHURCH HALL\, Denewell Avenue\, Gateshead\, Tyne and Wear\, NE9 5HD\, United Kingdom
END:VEVENT
BEGIN:VEVENT
DTSTART;TZID=UTC:20260806T180000
DTEND;TZID=UTC:20260806T220000
DTSTAMP:20260423T231741
CREATED:20251209T132710Z
LAST-MODIFIED:20251209T132710Z
UID:546-1786039200-1786053600@generalsoutpost.com
SUMMARY:August 2026 Club Night
DESCRIPTION:May Club Night\n\n\n\n\n6 August @ 6:00 pm – 10:00 pm\n\n\n\nJoin us for our monthly Club Night 6pm – 10pm \n\nFully stocked terrain cupboard\nBuy/Sell/Swap  table\nLocal wargaming vendor\nBeginner sessions of Bolt Action\nPick-up games\n\nFirst session is FREE \nThen £5 for non-members or FREE for club members (Club membership can be paid for on entry)
URL:https://generalsoutpost.com/event/august-2026-club-night/
LOCATION:URC Church Hall\, Denewell Avenue \, NE9 5HD\, URC CHURCH HALL\, Denewell Avenue\, Gateshead\, Tyne and Wear\, NE9 5HD\, United Kingdom
END:VEVENT
BEGIN:VEVENT
DTSTART;TZID=UTC:20260815T090000
DTEND;TZID=UTC:20260815T170000
DTSTAMP:20260423T231741
CREATED:20260211T155200Z
LAST-MODIFIED:20260211T155200Z
UID:576-1786784400-1786813200@generalsoutpost.com
SUMMARY:Konflikt '47 Tournament
DESCRIPTION:Our 1st ever 2nd edition K47 tournament. \nCheck back in March for more details… \n  \n[TO: TBA]
URL:https://generalsoutpost.com/event/konflikt-47-tournament/
LOCATION:URC Church Hall\, Denewell Avenue \, NE9 5HD\, URC CHURCH HALL\, Denewell Avenue\, Gateshead\, Tyne and Wear\, NE9 5HD\, United Kingdom
END:VEVENT
BEGIN:VEVENT
DTSTART;TZID=UTC:20260903T180000
DTEND;TZID=UTC:20260903T220000
DTSTAMP:20260423T231741
CREATED:20251209T132904Z
LAST-MODIFIED:20251209T132904Z
UID:548-1788458400-1788472800@generalsoutpost.com
SUMMARY:September 2026 Club Night
DESCRIPTION:May Club Night\n\n\n\n\n6 September @ 6:00 pm – 10:00 pm\n\n\n\nJoin us for our monthly Club Night 6pm – 10pm \n\nFully stocked terrain cupboard\nBuy/Sell/Swap  table\nLocal wargaming vendor\nBeginner sessions of Bolt Action\nPick-up games\n\nFirst session is FREE \nThen £5 for non-members or FREE for club members (Club membership can be paid for on entry)
URL:https://generalsoutpost.com/event/september-2026-club-night/
LOCATION:URC Church Hall\, Denewell Avenue \, NE9 5HD\, URC CHURCH HALL\, Denewell Avenue\, Gateshead\, Tyne and Wear\, NE9 5HD\, United Kingdom
END:VEVENT
BEGIN:VEVENT
DTSTART;TZID=UTC:20260919T090000
DTEND;TZID=UTC:20260919T170000
DTSTAMP:20260423T231741
CREATED:20260211T155405Z
LAST-MODIFIED:20260211T155405Z
UID:578-1789808400-1789837200@generalsoutpost.com
SUMMARY:Berlin - Big Battle
DESCRIPTION:The fall of the 3rd Reich. \nWe will be gaming many of eh districts of Berlin in this Bolt Action “Big Battle” day. \n  \nCheck back in MArch for more info. \n[TO’s: Chris & JJ]
URL:https://generalsoutpost.com/event/berlin-big-battle/
LOCATION:URC Church Hall\, Denewell Avenue \, NE9 5HD\, URC CHURCH HALL\, Denewell Avenue\, Gateshead\, Tyne and Wear\, NE9 5HD\, United Kingdom
END:VEVENT
BEGIN:VEVENT
DTSTART;TZID=UTC:20261001T180000
DTEND;TZID=UTC:20261001T220000
DTSTAMP:20260423T231741
CREATED:20251209T133025Z
LAST-MODIFIED:20251209T133025Z
UID:550-1790877600-1790892000@generalsoutpost.com
SUMMARY:October 2026 Club Night
DESCRIPTION:May Club Night\n\n\n\n\n1 October @ 6:00 pm – 10:00 pm\n\n\n\nJoin us for our monthly Club Night 6pm – 10pm \n\nFully stocked terrain cupboard\nBuy/Sell/Swap  table\nLocal wargaming vendor\nBeginner sessions of Bolt Action\nPick-up games\n\nFirst session is FREE \nThen £5 for non-members or FREE for club members (Club membership can be paid for on entry)
URL:https://generalsoutpost.com/event/october-2026-club-night/
LOCATION:URC Church Hall\, Denewell Avenue \, NE9 5HD\, URC CHURCH HALL\, Denewell Avenue\, Gateshead\, Tyne and Wear\, NE9 5HD\, United Kingdom
END:VEVENT
BEGIN:VEVENT
DTSTART;TZID=UTC:20261031T090000
DTEND;TZID=UTC:20261031T170000
DTSTAMP:20260423T231741
CREATED:20260211T155537Z
LAST-MODIFIED:20260211T155537Z
UID:580-1793437200-1793466000@generalsoutpost.com
SUMMARY:Bolt Action Tournament
DESCRIPTION:Our 2nd BA tournament of the year\, but it’s a singles event this time. \nThree games of Bolt Action packed into one day. \nCheck back in March for more details. \n[TO: Chris]
URL:https://generalsoutpost.com/event/bolt-action-tournament/
LOCATION:URC Church Hall\, Denewell Avenue \, NE9 5HD\, URC CHURCH HALL\, Denewell Avenue\, Gateshead\, Tyne and Wear\, NE9 5HD\, United Kingdom
END:VEVENT
BEGIN:VEVENT
DTSTART;TZID=UTC:20261105T180000
DTEND;TZID=UTC:20261105T220000
DTSTAMP:20260423T231741
CREATED:20251209T133149Z
LAST-MODIFIED:20251209T133149Z
UID:552-1793901600-1793916000@generalsoutpost.com
SUMMARY:November 2026 Club Night
DESCRIPTION:May Club Night\n\n\n\n\n5 November @ 6:00 pm – 10:00 pm\n\n\n\nJoin us for our monthly Club Night 6pm – 10pm \n\nFully stocked terrain cupboard\nBuy/Sell/Swap  table\nLocal wargaming vendor\nBeginner sessions of Bolt Action\nPick-up games\n\nFirst session is FREE \nThen £5 for non-members or FREE for club members (Club membership can be paid for on entry)
URL:https://generalsoutpost.com/event/november-2026-club-night/
LOCATION:URC Church Hall\, Denewell Avenue \, NE9 5HD\, URC CHURCH HALL\, Denewell Avenue\, Gateshead\, Tyne and Wear\, NE9 5HD\, United Kingdom
END:VEVENT
BEGIN:VEVENT
DTSTART;TZID=UTC:20261121T090000
DTEND;TZID=UTC:20261121T170000
DTSTAMP:20260423T231741
CREATED:20251204T102550Z
LAST-MODIFIED:20260211T130258Z
UID:515-1795251600-1795280400@generalsoutpost.com
SUMMARY:40K event - 40K\, Combat Patrol or Kill-Team\, you decide.
DESCRIPTION:Our only 40K event for the year has been re-scheduled from February 21st to the 21st November. \nWe have not yet decided on the final format. (Hopefully we will know by the end of the March club night). \nSpeak to Chris to get your vote in… \n[TO: TBC] \n£15 for the event…free to club members as usual \nPrizes…..always prizes
URL:https://generalsoutpost.com/event/40k-event-40k-combat-patrol-or-kill-team-you-decide/
LOCATION:URC Church Hall\, Denewell Avenue \, NE9 5HD\, URC CHURCH HALL\, Denewell Avenue\, Gateshead\, Tyne and Wear\, NE9 5HD\, United Kingdom
END:VEVENT
BEGIN:VEVENT
DTSTART;TZID=UTC:20261203T180000
DTEND;TZID=UTC:20261203T220000
DTSTAMP:20260423T231741
CREATED:20251209T133316Z
LAST-MODIFIED:20251209T133316Z
UID:554-1796320800-1796335200@generalsoutpost.com
SUMMARY:December 2026 Club Night
DESCRIPTION:May Club Night\n\n\n\n\n3 December @ 6:00 pm – 10:00 pm\n\n\n\nJoin us for our monthly Club Night 6pm – 10pm \n\nFully stocked terrain cupboard\nBuy/Sell/Swap  table\nLocal wargaming vendor\nBeginner sessions of Bolt Action\nPick-up games\n\nFirst session is FREE \nThen £5 for non-members or FREE for club members (Club membership can be paid for on entry)
URL:https://generalsoutpost.com/event/december-2026-club-night/
LOCATION:URC Church Hall\, Denewell Avenue \, NE9 5HD\, URC CHURCH HALL\, Denewell Avenue\, Gateshead\, Tyne and Wear\, NE9 5HD\, United Kingdom
END:VEVENT
END:VCALENDAR