BEGIN:VCALENDAR
VERSION:2.0
PRODID:-//GENERAL&#039;S OUTPOST - ECPv6.15.20//NONSGML v1.0//EN
CALSCALE:GREGORIAN
METHOD:PUBLISH
X-WR-CALNAME:GENERAL&#039;S OUTPOST
X-ORIGINAL-URL:https://generalsoutpost.com
X-WR-CALDESC:Events for GENERAL&#039;S OUTPOST
REFRESH-INTERVAL;VALUE=DURATION:PT1H
X-Robots-Tag:noindex
X-PUBLISHED-TTL:PT1H
BEGIN:VTIMEZONE
TZID:UTC
BEGIN:STANDARD
TZOFFSETFROM:+0000
TZOFFSETTO:+0000
TZNAME:UTC
DTSTART:20260101T000000
END:STANDARD
END:VTIMEZONE
BEGIN:VEVENT
DTSTART;TZID=UTC:20270109T090000
DTEND;TZID=UTC:20270109T170000
DTSTAMP:20260423T231319
CREATED:20260211T125743Z
LAST-MODIFIED:20260211T130101Z
UID:571-1799485200-1799514000@generalsoutpost.com
SUMMARY:March on Moscow - Big Battle
DESCRIPTION:Our first big battle of January 2027 is the German advance towards Moscow \nMore info will be posted here towards the end of 2026 when we decide which table and scenarios we will be gaming. \nplenty of time to get your German or Soviet hordes painted. \n£15. Free to club members.
URL:https://generalsoutpost.com/event/march-on-moscow-big-battle/
LOCATION:URC Church Hall\, Denewell Avenue \, NE9 5HD\, URC CHURCH HALL\, Denewell Avenue\, Gateshead\, Tyne and Wear\, NE9 5HD\, United Kingdom
END:VEVENT
END:VCALENDAR