BEGIN:VCALENDAR
VERSION:2.0
PRODID:-//GENERAL&#039;S OUTPOST - ECPv6.15.20//NONSGML v1.0//EN
CALSCALE:GREGORIAN
METHOD:PUBLISH
X-WR-CALNAME:GENERAL&#039;S OUTPOST
X-ORIGINAL-URL:https://generalsoutpost.com
X-WR-CALDESC:Events for GENERAL&#039;S OUTPOST
REFRESH-INTERVAL;VALUE=DURATION:PT1H
X-Robots-Tag:noindex
X-PUBLISHED-TTL:PT1H
BEGIN:VTIMEZONE
TZID:UTC
BEGIN:STANDARD
TZOFFSETFROM:+0000
TZOFFSETTO:+0000
TZNAME:UTC
DTSTART:20250101T000000
END:STANDARD
END:VTIMEZONE
BEGIN:VEVENT
DTSTART;TZID=UTC:20260919T090000
DTEND;TZID=UTC:20260919T170000
DTSTAMP:20260423T173919
CREATED:20260211T155405Z
LAST-MODIFIED:20260211T155405Z
UID:578-1789808400-1789837200@generalsoutpost.com
SUMMARY:Berlin - Big Battle
DESCRIPTION:The fall of the 3rd Reich. \nWe will be gaming many of eh districts of Berlin in this Bolt Action “Big Battle” day. \n  \nCheck back in MArch for more info. \n[TO’s: Chris & JJ]
URL:https://generalsoutpost.com/event/berlin-big-battle/
LOCATION:URC Church Hall\, Denewell Avenue \, NE9 5HD\, URC CHURCH HALL\, Denewell Avenue\, Gateshead\, Tyne and Wear\, NE9 5HD\, United Kingdom
END:VEVENT
END:VCALENDAR