BEGIN:VCALENDAR
VERSION:2.0
PRODID:-//GENERAL&#039;S OUTPOST - ECPv6.15.20//NONSGML v1.0//EN
CALSCALE:GREGORIAN
METHOD:PUBLISH
X-ORIGINAL-URL:https://generalsoutpost.com
X-WR-CALDESC:Events for GENERAL&#039;S OUTPOST
REFRESH-INTERVAL;VALUE=DURATION:PT1H
X-Robots-Tag:noindex
X-PUBLISHED-TTL:PT1H
BEGIN:VTIMEZONE
TZID:UTC
BEGIN:STANDARD
TZOFFSETFROM:+0000
TZOFFSETTO:+0000
TZNAME:UTC
DTSTART:20250101T000000
END:STANDARD
END:VTIMEZONE
BEGIN:VEVENT
DTSTART;TZID=UTC:20260627T090000
DTEND;TZID=UTC:20260627T170000
DTSTAMP:20260423T125148
CREATED:20251209T133751Z
LAST-MODIFIED:20251209T133751Z
UID:556-1782550800-1782579600@generalsoutpost.com
SUMMARY:Invasion of Italy
DESCRIPTION:On 27th June we are hosting our first Big Battle day set in Italy & Sicily. \nJoin us for the Salerno landings\, the assault on  Monte Cassino and the inevitable German & Italian counter attacks! \n  \n  \nTO: Chris & Owen \nEntry: £15. Free to club members as usual.
URL:https://generalsoutpost.com/event/invasion-of-italy/
LOCATION:URC Church Hall\, Denewell Avenue \, NE9 5HD\, URC CHURCH HALL\, Denewell Avenue\, Gateshead\, Tyne and Wear\, NE9 5HD\, United Kingdom
END:VEVENT
END:VCALENDAR