BEGIN:VCALENDAR
VERSION:2.0
PRODID:-//GENERAL&#039;S OUTPOST - ECPv6.15.20//NONSGML v1.0//EN
CALSCALE:GREGORIAN
METHOD:PUBLISH
X-WR-CALNAME:GENERAL&#039;S OUTPOST
X-ORIGINAL-URL:https://generalsoutpost.com
X-WR-CALDESC:Events for GENERAL&#039;S OUTPOST
REFRESH-INTERVAL;VALUE=DURATION:PT1H
X-Robots-Tag:noindex
X-PUBLISHED-TTL:PT1H
BEGIN:VTIMEZONE
TZID:UTC
BEGIN:STANDARD
TZOFFSETFROM:+0000
TZOFFSETTO:+0000
TZNAME:UTC
DTSTART:20250101T000000
END:STANDARD
END:VTIMEZONE
BEGIN:VEVENT
DTSTART;TZID=UTC:20260101T180000
DTEND;TZID=UTC:20260604T220000
DTSTAMP:20260423T112846
CREATED:20251126T103235Z
LAST-MODIFIED:20251126T105302Z
UID:502-1767290400-1780610400@generalsoutpost.com
SUMMARY:2026 Slow Grow Campaign
DESCRIPTION:Generals Outpost are hosting a slow grow Bolt Action campaign over the first 6 club nights of 2026. \nStarting at 666pts\, grow your force\, experience and win tally over six months of gaming. \nIts the perfect excuse to start a new army or update an existing one. \n  \nIn addition to the normal Bolt Action army structures the following will be in effect for month 1: \n\nMaximum of 666 pts\nMaximum of 9 order dice\nNo artillery platoons\nNo HE larger than 2″\nNo artillery or air observers\n\n  \nPrize\, trophy and all round bragging rights for the eventual winner as well as other prizes TBC. \n  \nClub member Tony Cowards will be managing the campaign. \nFree to club members.
URL:https://generalsoutpost.com/event/2026-slow-grow-campaign/
END:VEVENT
BEGIN:VEVENT
DTSTART;TZID=UTC:20260205T180000
DTEND;TZID=UTC:20260507T210000
DTSTAMP:20260423T112846
CREATED:20260202T205636Z
LAST-MODIFIED:20260202T205636Z
UID:568-1770314400-1778187600@generalsoutpost.com
SUMMARY:Club scenery painting competition
DESCRIPTION:Grab a piece of scenery (large or small) from Chris and paint it for the Club. \nReturn your painted scenery by the May club night to enter. \nThere will be multiple prizes (our biggest pot yet!). \nThe lucky winners will be selected by club member votes……and one lucky random entry will also win a prize. \n 
URL:https://generalsoutpost.com/event/club-scenery-painting-competition/
LOCATION:URC Church Hall\, Denewell Avenue \, NE9 5HD\, URC CHURCH HALL\, Denewell Avenue\, Gateshead\, Tyne and Wear\, NE9 5HD\, United Kingdom
END:VEVENT
BEGIN:VEVENT
DTSTART;TZID=UTC:20260506T183000
DTEND;TZID=UTC:20260506T220000
DTSTAMP:20260423T112846
CREATED:20260409T095623Z
LAST-MODIFIED:20260409T095623Z
UID:591-1778092200-1778104800@generalsoutpost.com
SUMMARY:Launch of "Dad's War Room - Doncaster"
DESCRIPTION:*Dad’s War Room – Doncaster* is opening on Wednesday 6th May. \nThis is the the first offshoot of the original “Dads War Room” in Hull that a few club members ran games at a few months ago. \nClub members have offered to travel down and run two Bolt Action intro game tables for them on their opening night. \nWe’ll be taking all the tables\, mats and scenery we need including a handful of the club armies\, dice\, markers etc.
URL:https://generalsoutpost.com/event/launch-of-dads-war-room-doncaster/
LOCATION:Kirk Sandall & Edenthorpe Church Hall\, next to Rokeby Gardens\, Queen Mary Crescent (Off Brecks Lane) Kirk Sandall DN3 1BY\, Kirk Sandall & Edenthorpe Church Hall\, Doncaster\, DN3 1BY\, United Kingdom
END:VEVENT
END:VCALENDAR