BEGIN:VCALENDAR
VERSION:2.0
PRODID:-//GENERAL&#039;S OUTPOST - ECPv6.15.20//NONSGML v1.0//EN
CALSCALE:GREGORIAN
METHOD:PUBLISH
X-WR-CALNAME:GENERAL&#039;S OUTPOST
X-ORIGINAL-URL:https://generalsoutpost.com
X-WR-CALDESC:Events for GENERAL&#039;S OUTPOST
REFRESH-INTERVAL;VALUE=DURATION:PT1H
X-Robots-Tag:noindex
X-PUBLISHED-TTL:PT1H
BEGIN:VTIMEZONE
TZID:UTC
BEGIN:STANDARD
TZOFFSETFROM:+0000
TZOFFSETTO:+0000
TZNAME:UTC
DTSTART:20240101T000000
END:STANDARD
END:VTIMEZONE
BEGIN:VEVENT
DTSTART;TZID=UTC:20250906T100000
DTEND;TZID=UTC:20251025T170000
DTSTAMP:20260423T201341
CREATED:20250804T123034Z
LAST-MODIFIED:20250804T123034Z
UID:466-1757152800-1761411600@generalsoutpost.com
SUMMARY:Squad Painting & Diorama competition
DESCRIPTION:Our latest club competition is a Bolt Action – Squad Painting & Diorama Competition being run by Gecko Gaming. Generals Outpost are sponsoring three prizes for the winning entries. \nCompetition runs from: 06/09/2025 – 25/10/2025 \nHere’s what you need to do to enter: \n\nDuring September & October\,  pop along to Gecko Gaming and pay £5 to enter the competition.\nYou will receive a random six man Warlord Games sprue & oval base.\nPaint up the models and arrange them on the suitably themed base. Remember\, the models should tell a story as well as look good painted.\nReturn your entry to Gecko Gaming by the end of October.\nOliver will log your entry.\n\nEnd of October: \n\nVote for you favourite models in the Gecko Gaming cabinet. The diorama with the most votes wins the “peoples choice prize”.\nOliver and his team will vote for the “Gecko Gaming choice prize” from all the other entries.\nOliver and his team will then vote for the “Best under 18s entry” from any U18 entries received (unless they have already won one of the two prizes above).\nWinners will have their choice of any Bolt Action box set (£35 or less).\n\nThree chances to win! start planning what your entry could be today. \n  \nDon’t forget to collect you entry when the voting is over. \n 
URL:https://generalsoutpost.com/event/squad-painting-diorama-competition/
LOCATION:gecko gaming gateshead\, 97-99 High Street\, Felling\, Gateshead\, Tyne and Wear\, United Kingdom
END:VEVENT
BEGIN:VEVENT
DTSTART;TZID=UTC:20250913T110000
DTEND;TZID=UTC:20250913T150000
DTSTAMP:20260423T201341
CREATED:20250620T065259Z
LAST-MODIFIED:20250620T065259Z
UID:445-1757761200-1757775600@generalsoutpost.com
SUMMARY:Get into Bolt Action - Back to school Demo Day
DESCRIPTION:Never tried Bolt Action but always wanted to command WW2 troops in 28mm? Then we have just the event for you.\nSome of our members will be running multiple free taster sessions at Gecko Gaming on Saturdays this September.\n\nBook your free 2hr intro game with Olly at Gecko and you could be one of the lucky players who wins a new hardback 3rd edition Bolt Action rulebook and a Bolt Action getting started kit.\n\nSpeak to Oliver at Gecko Gaming for more details and to reserve your game.\n\nGet into Bolt Action – Back to School demo Day
URL:https://generalsoutpost.com/event/get-into-bolt-action-back-to-school-demo-day/
LOCATION:gecko gaming gateshead\, 97-99 High Street\, Felling\, Gateshead\, Tyne and Wear\, United Kingdom
END:VEVENT
END:VCALENDAR