BEGIN:VCALENDAR
VERSION:2.0
PRODID:-//GENERAL&#039;S OUTPOST - ECPv6.15.20//NONSGML v1.0//EN
CALSCALE:GREGORIAN
METHOD:PUBLISH
X-ORIGINAL-URL:https://generalsoutpost.com
X-WR-CALDESC:Events for GENERAL&#039;S OUTPOST
REFRESH-INTERVAL;VALUE=DURATION:PT1H
X-Robots-Tag:noindex
X-PUBLISHED-TTL:PT1H
BEGIN:VTIMEZONE
TZID:UTC
BEGIN:STANDARD
TZOFFSETFROM:+0000
TZOFFSETTO:+0000
TZNAME:UTC
DTSTART:20230101T000000
END:STANDARD
END:VTIMEZONE
BEGIN:VEVENT
DTSTART;TZID=UTC:20241020T100000
DTEND;TZID=UTC:20241020T160000
DTSTAMP:20260424T114003
CREATED:20240709T093715Z
LAST-MODIFIED:20241014T115757Z
UID:217-1729418400-1729440000@generalsoutpost.com
SUMMARY:Nerd Fright Fest '24
DESCRIPTION:Generals Outpost will be running two tables at Nerd Fright Fest ’24 this year. \n  \nSunday 20th October 2024 from 10:00 – 16:00. \nThe Parks Sports Centre \nHowden Rd\, North Shields. \n  \nCome along and take command of a American or German platoon playing Bolt Action \nor \nThe Weird War version of Bolt Action – “Konflikt ’47“\, where the British will be fighting off the German Zombie hordes. \n 
URL:https://generalsoutpost.com/event/join-us-at-nerd-fest-24/
END:VEVENT
END:VCALENDAR