BEGIN:VCALENDAR
VERSION:2.0
PRODID:-//GENERAL&#039;S OUTPOST - ECPv6.15.20//NONSGML v1.0//EN
CALSCALE:GREGORIAN
METHOD:PUBLISH
X-ORIGINAL-URL:https://generalsoutpost.com
X-WR-CALDESC:Events for GENERAL&#039;S OUTPOST
REFRESH-INTERVAL;VALUE=DURATION:PT1H
X-Robots-Tag:noindex
X-PUBLISHED-TTL:PT1H
BEGIN:VTIMEZONE
TZID:UTC
BEGIN:STANDARD
TZOFFSETFROM:+0000
TZOFFSETTO:+0000
TZNAME:UTC
DTSTART:20230101T000000
END:STANDARD
END:VTIMEZONE
BEGIN:VEVENT
DTSTART;TZID=UTC:20241012T090000
DTEND;TZID=UTC:20241012T170000
DTSTAMP:20260424T114003
CREATED:20240423T174302Z
LAST-MODIFIED:20241014T123131Z
UID:178-1728723600-1728752400@generalsoutpost.com
SUMMARY:Bolt Action - BIG BATTLE / Tournament - Kursk!
DESCRIPTION:Get ready to mount up and roll out in our most ambitious Big Battle / Tournament yet. \nTake part in a giant Kursk themed battle involving tank platoons and infantry divisions based upon the German offensive (Operation Citadel). \nOne Huge table (10′ x 7′)\, two dice bags a whole day of fun\, with the Russians trying to stop the German Blitzkrieg at Prokhorovka. \nUnlike traditional tournaments where each player plays multiple opponents throughout the day we have arranged for the following (as each side will be working together as a team): Trophies for the top Axis and Allied commanders who wreck the most damage on the day as well as our famous “most cinematic action” trophy. We also have prizes for the top four players and the “most cinematic action” winner (These will be based on “Early War” which fits our coming battles for 2025). \nModels can be provided if you do not have any which match this period. \nEntry is FREE for members – £10 for non members \n9 German players confirmed\, eight with 1250pt armoured infantry armies (the tables are big\, they need the transport) supported by a dedicated air controller in charge of three planes & 10 Russian players eight with 1000pt armies and again a dedicated air controller with three planes. \nAs of 28/08/24 we have 0 places left. Chris has a waiting list [Currently 1 person] for those wishing to play. \nKursk – players pack v4 \nAny Questions or to book your place? email Chris: cmbucknall@yaho.co.uk \n  \nCracking event on Saturday! Here are some of the picture form our 21 player epic event. \n  \nKursk – preliminary bombardment pins a lot of units.\n  \nKursk – the game underway\nhttps://generalsoutpost.com/wp-content/uploads/2024/04/VID_20241012_154013.mp4\n  \nKursk – End of turn 2 and already 15 units out of action!\nKursk – some of our lucky winners. Great prize support from Warlord Games.\n  \n  \n  \n 
URL:https://generalsoutpost.com/event/bolt-action-big-battle-kursk/
LOCATION:URC Church Hall\, Denewell Avenue \, NE9 5HD\, URC CHURCH HALL\, Denewell Avenue\, Gateshead\, Tyne and Wear\, NE9 5HD\, United Kingdom
ATTACH;FMTTYPE=image/webp:https://generalsoutpost.com/wp-content/uploads/2024/04/kursk.webp
END:VEVENT
END:VCALENDAR