BEGIN:VCALENDAR
VERSION:2.0
PRODID:-//GENERAL&#039;S OUTPOST - ECPv6.15.20//NONSGML v1.0//EN
CALSCALE:GREGORIAN
METHOD:PUBLISH
X-WR-CALNAME:GENERAL&#039;S OUTPOST
X-ORIGINAL-URL:https://generalsoutpost.com
X-WR-CALDESC:Events for GENERAL&#039;S OUTPOST
REFRESH-INTERVAL;VALUE=DURATION:PT1H
X-Robots-Tag:noindex
X-PUBLISHED-TTL:PT1H
BEGIN:VTIMEZONE
TZID:UTC
BEGIN:STANDARD
TZOFFSETFROM:+0000
TZOFFSETTO:+0000
TZNAME:UTC
DTSTART:20230101T000000
END:STANDARD
END:VTIMEZONE
BEGIN:VEVENT
DTSTART;TZID=UTC:20240801T180000
DTEND;TZID=UTC:20241003T200000
DTSTAMP:20260424T113951
CREATED:20240815T094209Z
LAST-MODIFIED:20240815T100030Z
UID:283-1722535200-1727985600@generalsoutpost.com
SUMMARY:Club Scenery Challenge
DESCRIPTION:During the months of August and September we trying to add to our WW2 scenery collection. \nGrab an undercoated: cabinet\, settee\, crumbling wall\, bookcase or a complete ruined house and paint it up best you can. \nReal cash prizes! £10 for the piece that is voted the best and an additional £10 random draw (even if your painting sucks you can still win!). \nThe club will then have a load of new scenery. \nClosing Date for painted scenery entries: October Club Night (8pm\, Thursday 3rd October 2024) \n  \nScenery available to paint
URL:https://generalsoutpost.com/event/club-scenery-challenge/
LOCATION:URC Church Hall\, Denewell Avenue \, NE9 5HD\, URC CHURCH HALL\, Denewell Avenue\, Gateshead\, Tyne and Wear\, NE9 5HD\, United Kingdom
END:VEVENT
BEGIN:VEVENT
DTSTART;TZID=UTC:20241003T180000
DTEND;TZID=UTC:20241003T210000
DTSTAMP:20260424T113951
CREATED:20240709T094857Z
LAST-MODIFIED:20240709T094857Z
UID:228-1727978400-1727989200@generalsoutpost.com
SUMMARY:October Club Night
DESCRIPTION:Join us for our monthly Club Night 6pm – 9pm \n\nFully stocked terrain cupboard\nBuy/Sell/Swap  table\nLocal wargaming vendor\nBeginner sessions of Bolt Action\nPick-up games\n\nFirst session is FREE \nThen £5 for non-members or FREE for club members (Club membership can be paid for on entry)
URL:https://generalsoutpost.com/event/october-club-night/
END:VEVENT
BEGIN:VEVENT
DTSTART;TZID=UTC:20241003T180000
DTEND;TZID=UTC:20241003T210000
DTSTAMP:20260424T113951
CREATED:20240904T144109Z
LAST-MODIFIED:20240904T183700Z
UID:312-1727978400-1727989200@generalsoutpost.com
SUMMARY:Learn to play Bolt Action 3rd Edition
DESCRIPTION:Intro Games of Bolt Action 3rd Edition\n\nA number of our club members (including myself) are travelling to the Warlord Games open day in Nottingham later this month.\n\nWe should be learning first hand how the new Bolt Action 3rd Edition rules work in practice.\n\nAs almost all of our club play Bolt Action we have arranged to host a number of 3rd Edition intro-games at our October club night to bring people up to speed.\n\nIf you already play Bolt Action and are interested in the differences that 3rd Edition brings or have never played but want to jump in a try this may be the perfect opportunity for you.\n\n Generals Outpost October club night\n\n Thursday  3rd October\n\n 18:00 – 21:00\n\n Denewell Ave. URC hall\, Low Fell\, Gateshead\n\n\nWe also have a cracking deal for new club members:\n\n Club Membership from now until the end of 2025 (including all Big Battle days and tournaments)\n+\n Hardback copy of the 3rd Edition Bolt action rules\n+\n Bolt Action starter army (~500pts)\n+\n Club Polo Shirt\n\nAll for £50\n\n\nInterested in attending? Speak to Chris: cmbucknall@yahoo.co.uk
URL:https://generalsoutpost.com/event/learn-to-play-bolt-action-3rd-edition/
LOCATION:URC Church Hall\, Denewell Avenue \, NE9 5HD\, URC CHURCH HALL\, Denewell Avenue\, Gateshead\, Tyne and Wear\, NE9 5HD\, United Kingdom
END:VEVENT
END:VCALENDAR