BEGIN:VCALENDAR
VERSION:2.0
PRODID:-//GENERAL&#039;S OUTPOST - ECPv6.15.20//NONSGML v1.0//EN
CALSCALE:GREGORIAN
METHOD:PUBLISH
X-WR-CALNAME:GENERAL&#039;S OUTPOST
X-ORIGINAL-URL:https://generalsoutpost.com
X-WR-CALDESC:Events for GENERAL&#039;S OUTPOST
REFRESH-INTERVAL;VALUE=DURATION:PT1H
X-Robots-Tag:noindex
X-PUBLISHED-TTL:PT1H
BEGIN:VTIMEZONE
TZID:UTC
BEGIN:STANDARD
TZOFFSETFROM:+0000
TZOFFSETTO:+0000
TZNAME:UTC
DTSTART:20230101T000000
END:STANDARD
END:VTIMEZONE
BEGIN:VEVENT
DTSTART;TZID=UTC:20240606T180000
DTEND;TZID=UTC:20240905T200000
DTSTAMP:20260424T143837
CREATED:20240709T104850Z
LAST-MODIFIED:20240709T104850Z
UID:242-1717696800-1725566400@generalsoutpost.com
SUMMARY:Summer Gaming Challenge
DESCRIPTION:enter our Summer Gaming Challenge for only £2. \nPlay games of Bolt Action\, paint new units and take part in club events to win some fantastic prizes! \nJune – September ’24. Closing date: 5th September ’24. \nSee Chris to pickup an entry form.
URL:https://generalsoutpost.com/event/summer-gaming-challenge/
END:VEVENT
BEGIN:VEVENT
DTSTART;TZID=UTC:20240801T180000
DTEND;TZID=UTC:20241003T200000
DTSTAMP:20260424T143837
CREATED:20240815T094209Z
LAST-MODIFIED:20240815T100030Z
UID:283-1722535200-1727985600@generalsoutpost.com
SUMMARY:Club Scenery Challenge
DESCRIPTION:During the months of August and September we trying to add to our WW2 scenery collection. \nGrab an undercoated: cabinet\, settee\, crumbling wall\, bookcase or a complete ruined house and paint it up best you can. \nReal cash prizes! £10 for the piece that is voted the best and an additional £10 random draw (even if your painting sucks you can still win!). \nThe club will then have a load of new scenery. \nClosing Date for painted scenery entries: October Club Night (8pm\, Thursday 3rd October 2024) \n  \nScenery available to paint
URL:https://generalsoutpost.com/event/club-scenery-challenge/
LOCATION:URC Church Hall\, Denewell Avenue \, NE9 5HD\, URC CHURCH HALL\, Denewell Avenue\, Gateshead\, Tyne and Wear\, NE9 5HD\, United Kingdom
END:VEVENT
BEGIN:VEVENT
DTSTART;TZID=UTC:20240823T080000
DTEND;TZID=UTC:20240823T170000
DTSTAMP:20260424T143837
CREATED:20240823T082417Z
LAST-MODIFIED:20240823T082417Z
UID:303-1724400000-1724432400@generalsoutpost.com
SUMMARY:2024 Club AGM
DESCRIPTION:The Generals Outpost 2024 AGM will be held on Thursday 7th November 21:15-22:00 (straight after the club night). \nIf anyone has any agenda items please let Chris know ASAP. \nAll Club members are encouraged to attend as decisions made here shape the club over the next 12 months. \n 
URL:https://generalsoutpost.com/event/2024-club-agm/
END:VEVENT
BEGIN:VEVENT
DTSTART;TZID=UTC:20240823T170000
DTEND;TZID=UTC:20240823T210000
DTSTAMP:20260424T143837
CREATED:20240822T144908Z
LAST-MODIFIED:20240822T144908Z
UID:301-1724432400-1724446800@generalsoutpost.com
SUMMARY:extra August Club Night
DESCRIPTION:Join us for an extra  Club Night in August! 17:00 – 21:00 \n\nFully stocked terrain cupboard\nBuy/Sell/Swap  table\nLocal wargaming vendor\nBeginner sessions of Bolt Action\nPick-up games\n\nFirst session is FREE \nThen £5 for non-members or FREE for club members (Club membership can be paid for on entry)
URL:https://generalsoutpost.com/event/extra-august-club-night/
END:VEVENT
END:VCALENDAR