BEGIN:VCALENDAR
VERSION:2.0
PRODID:-//GENERAL&#039;S OUTPOST - ECPv6.15.20//NONSGML v1.0//EN
CALSCALE:GREGORIAN
METHOD:PUBLISH
X-ORIGINAL-URL:https://generalsoutpost.com
X-WR-CALDESC:Events for GENERAL&#039;S OUTPOST
REFRESH-INTERVAL;VALUE=DURATION:PT1H
X-Robots-Tag:noindex
X-PUBLISHED-TTL:PT1H
BEGIN:VTIMEZONE
TZID:Europe/London
BEGIN:DAYLIGHT
TZOFFSETFROM:+0000
TZOFFSETTO:+0100
TZNAME:BST
DTSTART:20230326T010000
END:DAYLIGHT
BEGIN:STANDARD
TZOFFSETFROM:+0100
TZOFFSETTO:+0000
TZNAME:GMT
DTSTART:20231029T010000
END:STANDARD
BEGIN:DAYLIGHT
TZOFFSETFROM:+0000
TZOFFSETTO:+0100
TZNAME:BST
DTSTART:20240331T010000
END:DAYLIGHT
BEGIN:STANDARD
TZOFFSETFROM:+0100
TZOFFSETTO:+0000
TZNAME:GMT
DTSTART:20241027T010000
END:STANDARD
BEGIN:DAYLIGHT
TZOFFSETFROM:+0000
TZOFFSETTO:+0100
TZNAME:BST
DTSTART:20250330T010000
END:DAYLIGHT
BEGIN:STANDARD
TZOFFSETFROM:+0100
TZOFFSETTO:+0000
TZNAME:GMT
DTSTART:20251026T010000
END:STANDARD
END:VTIMEZONE
BEGIN:VEVENT
DTSTART;TZID=Europe/London:20240504T090000
DTEND;TZID=Europe/London:20240504T170000
DTSTAMP:20260424T184437
CREATED:20240423T170839Z
LAST-MODIFIED:20240423T172415Z
UID:162-1714813200-1714842000@generalsoutpost.com
SUMMARY:Konflikt 47 Tournament
DESCRIPTION:Join us for a Konflikt 47 tournament of epic proportions!  \nFeaturing official prize support from Warlord Games as well as local stores! \n \nConstruct a list of 1000 Points and battle away across a series of 3 to 4 games. \nEntry is FREE for club members or £10 for non members
URL:https://generalsoutpost.com/event/test/
LOCATION:URC Church Hall\, Denewell Avenue \, NE9 5HD\, URC CHURCH HALL\, Denewell Avenue\, Gateshead\, Tyne and Wear\, NE9 5HD\, United Kingdom
ATTACH;FMTTYPE=image/jpeg:https://generalsoutpost.com/wp-content/uploads/2024/04/Konflikt-Banner.jpg
END:VEVENT
END:VCALENDAR